BEGIN:VCALENDAR
VERSION:2.0
PRODID:-//&quot;Weight&quot; No Longer, LLC - ECPv5.10.0//NONSGML v1.0//EN
CALSCALE:GREGORIAN
METHOD:PUBLISH
X-WR-CALNAME:&quot;Weight&quot; No Longer, LLC
X-ORIGINAL-URL:https://weightnolongerniantic.com
X-WR-CALDESC:Events for &quot;Weight&quot; No Longer, LLC
BEGIN:VTIMEZONE
TZID:UTC
BEGIN:STANDARD
TZOFFSETFROM:+0000
TZOFFSETTO:+0000
TZNAME:UTC
DTSTART:20260101T000000
END:STANDARD
END:VTIMEZONE
BEGIN:VEVENT
DTSTART;TZID=UTC:20260505T120000
DTEND;TZID=UTC:20260505T133000
DTSTAMP:20260425T222819
CREATED:20171214T212611Z
LAST-MODIFIED:20171214T212611Z
UID:6874-1777982400-1777987800@weightnolongerniantic.com
SUMMARY:Educational Seminars
DESCRIPTION:Held every Tuesday at 12 PM & 7 PM for new and potential clients. \nOffers a thorough explanation of the science behind our medically designed protocol. Come and enjoy a meet & greet with founder Jane Buglione MSN\, RN\, a few members of our staff\, and a successful “Weight” No Longer LLC client while enjoying food sampling of our top selling products. We offer a question and answer session\, and cover the cost of our program. \n**REGISTRATION REQUIRED**
URL:https://weightnolongerniantic.com/event/educational-seminars/2026-05-05/
END:VEVENT
BEGIN:VEVENT
DTSTART;TZID=UTC:20260505T190000
DTEND;TZID=UTC:20260505T203000
DTSTAMP:20260425T222819
CREATED:20171214T212611Z
LAST-MODIFIED:20171214T212611Z
UID:6873-1778007600-1778013000@weightnolongerniantic.com
SUMMARY:Educational Seminars
DESCRIPTION:Held every Tuesday at 12 PM & 7 PM for new and potential clients. \nOffers a thorough explanation of the science behind our medically designed protocol. Come and enjoy a meet & greet with founder Jane Buglione MSN\, RN\, a few members of our staff\, and a successful “Weight” No Longer LLC client while enjoying food sampling of our top selling products. We offer a question and answer session\, and cover the cost of our program. \n**REGISTRATION REQUIRED**
URL:https://weightnolongerniantic.com/event/educational-seminars/2026-05-05/
END:VEVENT
END:VCALENDAR